BEGIN:VCALENDAR
VERSION:2.0
PRODID:-//Heilig Kreuz Volksdorf - ECPv6.15.17.1//NONSGML v1.0//EN
CALSCALE:GREGORIAN
METHOD:PUBLISH
X-ORIGINAL-URL:https://heilig-kreuz-volksdorf.de
X-WR-CALDESC:Veranstaltungen für Heilig Kreuz Volksdorf
REFRESH-INTERVAL;VALUE=DURATION:PT1H
X-Robots-Tag:noindex
X-PUBLISHED-TTL:PT1H
BEGIN:VTIMEZONE
TZID:Europe/Helsinki
BEGIN:DAYLIGHT
TZOFFSETFROM:+0200
TZOFFSETTO:+0300
TZNAME:EEST
DTSTART:20230326T010000
END:DAYLIGHT
BEGIN:STANDARD
TZOFFSETFROM:+0300
TZOFFSETTO:+0200
TZNAME:EET
DTSTART:20231029T010000
END:STANDARD
BEGIN:DAYLIGHT
TZOFFSETFROM:+0200
TZOFFSETTO:+0300
TZNAME:EEST
DTSTART:20240331T010000
END:DAYLIGHT
BEGIN:STANDARD
TZOFFSETFROM:+0300
TZOFFSETTO:+0200
TZNAME:EET
DTSTART:20241027T010000
END:STANDARD
BEGIN:DAYLIGHT
TZOFFSETFROM:+0200
TZOFFSETTO:+0300
TZNAME:EEST
DTSTART:20250330T010000
END:DAYLIGHT
BEGIN:STANDARD
TZOFFSETFROM:+0300
TZOFFSETTO:+0200
TZNAME:EET
DTSTART:20251026T010000
END:STANDARD
END:VTIMEZONE
BEGIN:VEVENT
DTSTART;TZID=Europe/Helsinki:20240602T094500
DTEND;TZID=Europe/Helsinki:20240602T104500
DTSTAMP:20260425T143637
CREATED:20240525T142041Z
LAST-MODIFIED:20240525T142041Z
UID:19909-1717321500-1717325100@heilig-kreuz-volksdorf.de
SUMMARY:Hl. Messe
DESCRIPTION:
URL:https://heilig-kreuz-volksdorf.de/veranstaltung/hl-messe-1010/
CATEGORIES:Alle Termine,Gottesdienste
END:VEVENT
BEGIN:VEVENT
DTSTART;TZID=Europe/Helsinki:20240602T180000
DTEND;TZID=Europe/Helsinki:20240602T190000
DTSTAMP:20260425T143637
CREATED:20240525T142137Z
LAST-MODIFIED:20240525T142137Z
UID:19911-1717351200-1717354800@heilig-kreuz-volksdorf.de
SUMMARY:Hl. Messe
DESCRIPTION:
URL:https://heilig-kreuz-volksdorf.de/veranstaltung/hl-messe-1011/
CATEGORIES:Alle Termine,Gottesdienste
END:VEVENT
BEGIN:VEVENT
DTSTART;TZID=Europe/Helsinki:20240605T090000
DTEND;TZID=Europe/Helsinki:20240605T093000
DTSTAMP:20260425T143637
CREATED:20240109T144428Z
LAST-MODIFIED:20240109T144428Z
UID:18968-1717578000-1717579800@heilig-kreuz-volksdorf.de
SUMMARY:kfd-Messe
DESCRIPTION:
URL:https://heilig-kreuz-volksdorf.de/veranstaltung/kfd-messe-7/
CATEGORIES:Alle Termine,Gottesdienste
END:VEVENT
BEGIN:VEVENT
DTSTART;TZID=Europe/Helsinki:20240605T093000
DTEND;TZID=Europe/Helsinki:20240605T113000
DTSTAMP:20260425T143637
CREATED:20240109T143620Z
LAST-MODIFIED:20240109T143620Z
UID:18950-1717579800-1717587000@heilig-kreuz-volksdorf.de
SUMMARY:kfd-Treffen
DESCRIPTION:Kleiner Besinnungstag mit Frau Kuckhoff im Gemeindesaal
URL:https://heilig-kreuz-volksdorf.de/veranstaltung/kfd-treffen-9/
CATEGORIES:Alle Termine,Veranstaltung
END:VEVENT
BEGIN:VEVENT
DTSTART;TZID=Europe/Helsinki:20240608T100000
DTEND;TZID=Europe/Helsinki:20240608T130000
DTSTAMP:20260425T143637
CREATED:20240520T132159Z
LAST-MODIFIED:20240520T132159Z
UID:19892-1717840800-1717851600@heilig-kreuz-volksdorf.de
SUMMARY:KinderBibelTag: Pfingsten\, da war doch was?
DESCRIPTION:Näheres unter Aktuelles!
URL:https://heilig-kreuz-volksdorf.de/veranstaltung/kinderbibeltag-pfingsten-da-war-doch-was/
CATEGORIES:Alle Termine,Veranstaltung
END:VEVENT
BEGIN:VEVENT
DTSTART;TZID=Europe/Helsinki:20240609T094500
DTEND;TZID=Europe/Helsinki:20240609T170000
DTSTAMP:20260425T143637
CREATED:20240602T194814Z
LAST-MODIFIED:20240602T195314Z
UID:19968-1717926300-1717952400@heilig-kreuz-volksdorf.de
SUMMARY:Wort Gottes-Feier mit Willkommensgruß
DESCRIPTION:
URL:https://heilig-kreuz-volksdorf.de/veranstaltung/wort-gottes-feier-mit-willkommensgruss/
CATEGORIES:Alle Termine,Gottesdienste
END:VEVENT
BEGIN:VEVENT
DTSTART;TZID=Europe/Helsinki:20240609T180000
DTEND;TZID=Europe/Helsinki:20240609T190000
DTSTAMP:20260425T143637
CREATED:20240602T194653Z
LAST-MODIFIED:20240602T194653Z
UID:19966-1717956000-1717959600@heilig-kreuz-volksdorf.de
SUMMARY:Hl. Messe
DESCRIPTION:
URL:https://heilig-kreuz-volksdorf.de/veranstaltung/hl-messe-1012/
CATEGORIES:Alle Termine,Gottesdienste
END:VEVENT
BEGIN:VEVENT
DTSTART;TZID=Europe/Helsinki:20240611T150000
DTEND;TZID=Europe/Helsinki:20240611T170000
DTSTAMP:20260425T143637
CREATED:20240126T065920Z
LAST-MODIFIED:20240126T070937Z
UID:19174-1718118000-1718125200@heilig-kreuz-volksdorf.de
SUMMARY:Treffen der Nachmittagssenioren
DESCRIPTION:Ausflüge an Nord- und Ostsee. Fotovortrag mit Gerhard Vogel
URL:https://heilig-kreuz-volksdorf.de/veranstaltung/19174/
CATEGORIES:Alle Termine,Veranstaltung
END:VEVENT
BEGIN:VEVENT
DTSTART;TZID=Europe/Helsinki:20240612T090000
DTEND;TZID=Europe/Helsinki:20240612T093000
DTSTAMP:20260425T143637
CREATED:20240608T162749Z
LAST-MODIFIED:20240608T162749Z
UID:19976-1718182800-1718184600@heilig-kreuz-volksdorf.de
SUMMARY:Hl. Messe
DESCRIPTION:
URL:https://heilig-kreuz-volksdorf.de/veranstaltung/hl-messe-1013/
CATEGORIES:Alle Termine,Gottesdienste
END:VEVENT
BEGIN:VEVENT
DTSTART;TZID=Europe/Helsinki:20240613T193000
DTEND;TZID=Europe/Helsinki:20240613T213000
DTSTAMP:20260425T143637
CREATED:20240610T045944Z
LAST-MODIFIED:20240610T045944Z
UID:19997-1718307000-1718314200@heilig-kreuz-volksdorf.de
SUMMARY:KV-Sitzung 04-2024 in Hl. Geist
DESCRIPTION:Näheres s. unter Aktuelles!
URL:https://heilig-kreuz-volksdorf.de/veranstaltung/kv-sitzung-04-2024-in-hl-geist/
CATEGORIES:Alle Termine,Veranstaltung
END:VEVENT
BEGIN:VEVENT
DTSTART;TZID=Europe/Helsinki:20240615T110000
DTEND;TZID=Europe/Helsinki:20240615T123000
DTSTAMP:20260425T143637
CREATED:20240608T163042Z
LAST-MODIFIED:20240608T163042Z
UID:19982-1718449200-1718454600@heilig-kreuz-volksdorf.de
SUMMARY:Erstkommunionfeier I
DESCRIPTION:
URL:https://heilig-kreuz-volksdorf.de/veranstaltung/erstkommunionfeier-i-2/
CATEGORIES:Alle Termine,Gottesdienste
END:VEVENT
BEGIN:VEVENT
DTSTART;TZID=Europe/Helsinki:20240615T140000
DTEND;TZID=Europe/Helsinki:20240615T153000
DTSTAMP:20260425T143637
CREATED:20240608T163130Z
LAST-MODIFIED:20240608T163151Z
UID:19984-1718460000-1718465400@heilig-kreuz-volksdorf.de
SUMMARY:Erstkommunionfeier II
DESCRIPTION:
URL:https://heilig-kreuz-volksdorf.de/veranstaltung/erstkommunionfeier-ii/
CATEGORIES:Alle Termine,Gottesdienste
END:VEVENT
BEGIN:VEVENT
DTSTART;TZID=Europe/Helsinki:20240616T094500
DTEND;TZID=Europe/Helsinki:20240616T104500
DTSTAMP:20260425T143637
CREATED:20240608T162850Z
LAST-MODIFIED:20240608T162850Z
UID:19978-1718531100-1718534700@heilig-kreuz-volksdorf.de
SUMMARY:Hl. Messe
DESCRIPTION:
URL:https://heilig-kreuz-volksdorf.de/veranstaltung/hl-messe-1014/
CATEGORIES:Alle Termine,Gottesdienste
END:VEVENT
BEGIN:VEVENT
DTSTART;TZID=Europe/Helsinki:20240616T180000
DTEND;TZID=Europe/Helsinki:20240616T190000
DTSTAMP:20260425T143637
CREATED:20240608T162937Z
LAST-MODIFIED:20240608T162937Z
UID:19980-1718560800-1718564400@heilig-kreuz-volksdorf.de
SUMMARY:Hl. Messe
DESCRIPTION:
URL:https://heilig-kreuz-volksdorf.de/veranstaltung/hl-messe-1015/
CATEGORIES:Alle Termine,Gottesdienste
END:VEVENT
BEGIN:VEVENT
DTSTART;TZID=Europe/Helsinki:20240619T090000
DTEND;TZID=Europe/Helsinki:20240619T093000
DTSTAMP:20260425T143637
CREATED:20240614T121610Z
LAST-MODIFIED:20240614T121610Z
UID:20028-1718787600-1718789400@heilig-kreuz-volksdorf.de
SUMMARY:Hl. Messe
DESCRIPTION:
URL:https://heilig-kreuz-volksdorf.de/veranstaltung/hl-messe-1017/
CATEGORIES:Alle Termine,Gottesdienste
END:VEVENT
BEGIN:VEVENT
DTSTART;TZID=Europe/Helsinki:20240619T190000
DTEND;TZID=Europe/Helsinki:20240619T220000
DTSTAMP:20260425T143637
CREATED:20240225T065701Z
LAST-MODIFIED:20240225T065701Z
UID:19411-1718823600-1718834400@heilig-kreuz-volksdorf.de
SUMMARY:Frauen unterwegs
DESCRIPTION:Klönen im Innenhof (jede bringt etwas mit)
URL:https://heilig-kreuz-volksdorf.de/veranstaltung/frauen-unterwegs-27/
CATEGORIES:Alle Termine,Veranstaltung
END:VEVENT
BEGIN:VEVENT
DTSTART;TZID=Europe/Helsinki:20240622T140000
DTEND;TZID=Europe/Helsinki:20240622T170000
DTSTAMP:20260425T143637
CREATED:20240622T090625Z
LAST-MODIFIED:20240622T090625Z
UID:20072-1719064800-1719075600@heilig-kreuz-volksdorf.de
SUMMARY:Gartenpflege Hl. Kreuz
DESCRIPTION:mit anschl. Grillen und b.  Bedarf Fußball-Schauen
URL:https://heilig-kreuz-volksdorf.de/veranstaltung/gartenpflege-hl-kreuz/
CATEGORIES:Alle Termine,Veranstaltung
END:VEVENT
BEGIN:VEVENT
DTSTART;TZID=Europe/Helsinki:20240623T090000
DTEND;TZID=Europe/Helsinki:20240623T170000
DTSTAMP:20260425T143637
CREATED:20231230T090621Z
LAST-MODIFIED:20240402T181446Z
UID:18904-1719133200-1719162000@heilig-kreuz-volksdorf.de
SUMMARY:Sonntagswandergruppe
DESCRIPTION:Näheres s. unter Erwachsene –> Sonntagswandergruppe
URL:https://heilig-kreuz-volksdorf.de/veranstaltung/sonntagswandergruppe-32/
CATEGORIES:Alle Termine,Veranstaltung
END:VEVENT
BEGIN:VEVENT
DTSTART;TZID=Europe/Helsinki:20240623T094500
DTEND;TZID=Europe/Helsinki:20240623T104500
DTSTAMP:20260425T143637
CREATED:20240614T121453Z
LAST-MODIFIED:20240614T121453Z
UID:20025-1719135900-1719139500@heilig-kreuz-volksdorf.de
SUMMARY:Hl. Messe
DESCRIPTION:
URL:https://heilig-kreuz-volksdorf.de/veranstaltung/hl-messe-1016/
CATEGORIES:Alle Termine,Gottesdienste
END:VEVENT
BEGIN:VEVENT
DTSTART;TZID=Europe/Helsinki:20240623T180000
DTEND;TZID=Europe/Helsinki:20240623T190000
DTSTAMP:20260425T143637
CREATED:20240622T091434Z
LAST-MODIFIED:20240622T091434Z
UID:20077-1719165600-1719169200@heilig-kreuz-volksdorf.de
SUMMARY:Hl. Messe
DESCRIPTION:
URL:https://heilig-kreuz-volksdorf.de/veranstaltung/hl-messe-1019/
CATEGORIES:Alle Termine,Gottesdienste
END:VEVENT
BEGIN:VEVENT
DTSTART;VALUE=DATE:20240625
DTEND;VALUE=DATE:20240626
DTSTAMP:20260425T143637
CREATED:20240126T070035Z
LAST-MODIFIED:20240126T071206Z
UID:19176-1719273600-1719359999@heilig-kreuz-volksdorf.de
SUMMARY:Ausflug der Nachmittagssenioren
DESCRIPTION:z.Zt. in Planung\, Einzelheiten folgen
URL:https://heilig-kreuz-volksdorf.de/veranstaltung/ausflug-der-nachmittagssenioren/
CATEGORIES:Alle Termine,Veranstaltung
END:VEVENT
BEGIN:VEVENT
DTSTART;VALUE=DATE:20240626
DTEND;VALUE=DATE:20240630
DTSTAMP:20260425T143637
CREATED:20240518T155153Z
LAST-MODIFIED:20240518T155153Z
UID:19867-1719360000-1719705599@heilig-kreuz-volksdorf.de
SUMMARY:Bistums-Wallfahrt: Auf den Spuren der Lübecker Märtyrer
DESCRIPTION:Näheres unter Aktuelles!
URL:https://heilig-kreuz-volksdorf.de/veranstaltung/bistums-wallfahrt-auf-den-spuren-der-luebecker-maertyrer/
CATEGORIES:Alle Termine,Veranstaltung
END:VEVENT
BEGIN:VEVENT
DTSTART;TZID=Europe/Helsinki:20240626T090000
DTEND;TZID=Europe/Helsinki:20240626T093000
DTSTAMP:20260425T143637
CREATED:20240621T132518Z
LAST-MODIFIED:20240621T132518Z
UID:20064-1719392400-1719394200@heilig-kreuz-volksdorf.de
SUMMARY:Hl. Messe
DESCRIPTION:
URL:https://heilig-kreuz-volksdorf.de/veranstaltung/hl-messe-1018/
CATEGORIES:Alle Termine,Gottesdienste
END:VEVENT
BEGIN:VEVENT
DTSTART;TZID=Europe/Helsinki:20240627T200000
DTEND;TZID=Europe/Helsinki:20240627T220000
DTSTAMP:20260425T143637
CREATED:20240118T141526Z
LAST-MODIFIED:20240118T141552Z
UID:19095-1719518400-1719525600@heilig-kreuz-volksdorf.de
SUMMARY:Gemeindetreff
DESCRIPTION:Im Johannes Prassek-Saal
URL:https://heilig-kreuz-volksdorf.de/veranstaltung/gemeindetreff-6/
CATEGORIES:Alle Termine,Veranstaltung
END:VEVENT
BEGIN:VEVENT
DTSTART;TZID=Europe/Helsinki:20240629T093000
DTEND;TZID=Europe/Helsinki:20240629T170000
DTSTAMP:20260425T143637
CREATED:20240504T073220Z
LAST-MODIFIED:20240504T073220Z
UID:19774-1719653400-1719680400@heilig-kreuz-volksdorf.de
SUMMARY:Fußballturnier der Kath. Grundschulen (Ansgar-Cup)
DESCRIPTION:ab 9:30 auf dem Sportplatz des SC Condor in HH-Farmsen
URL:https://heilig-kreuz-volksdorf.de/veranstaltung/fussballturnier-der-kath-grundschulen-ansgar-cup/
CATEGORIES:Alle Termine,Veranstaltung
END:VEVENT
BEGIN:VEVENT
DTSTART;TZID=Europe/Helsinki:20240630T110000
DTEND;TZID=Europe/Helsinki:20240630T120000
DTSTAMP:20260425T143637
CREATED:20240621T132322Z
LAST-MODIFIED:20240621T132322Z
UID:20060-1719745200-1719748800@heilig-kreuz-volksdorf.de
SUMMARY:Festgottesdienst der Pfarrei zum 10-jährigen Pfarreijubiläum
DESCRIPTION:anschl. Pfarreifest bis 16:00 Uhr
URL:https://heilig-kreuz-volksdorf.de/veranstaltung/festgottesdienst-der-pfarrei-zum-10-jaehrigen-pfarreijubilaeum/
CATEGORIES:Alle Termine,Gottesdienste
END:VEVENT
BEGIN:VEVENT
DTSTART;TZID=Europe/Helsinki:20240630T120000
DTEND;TZID=Europe/Helsinki:20240630T160000
DTSTAMP:20260425T143637
CREATED:20240622T091807Z
LAST-MODIFIED:20240622T091807Z
UID:20079-1719748800-1719763200@heilig-kreuz-volksdorf.de
SUMMARY:Pfarreifest zum 10-jährigen Pfarreijubiläum in Hl. Kreuz
DESCRIPTION:Näheres s. unter Aktuelles!
URL:https://heilig-kreuz-volksdorf.de/veranstaltung/pfarreifest-zum-10-jaehrigen-pfarreijubilaeum-in-hl-kreuz/
CATEGORIES:Alle Termine,Veranstaltung
END:VEVENT
BEGIN:VEVENT
DTSTART;TZID=Europe/Helsinki:20240630T180000
DTEND;TZID=Europe/Helsinki:20240630T190000
DTSTAMP:20260425T143637
CREATED:20240621T132405Z
LAST-MODIFIED:20240621T132405Z
UID:20062-1719770400-1719774000@heilig-kreuz-volksdorf.de
SUMMARY:Abendmesse fällt aus!
DESCRIPTION:
URL:https://heilig-kreuz-volksdorf.de/veranstaltung/abendmesse-faellt-aus/
END:VEVENT
END:VCALENDAR