BEGIN:VCALENDAR
VERSION:2.0
PRODID:-//Heilig Kreuz Volksdorf - ECPv6.15.17.1//NONSGML v1.0//EN
CALSCALE:GREGORIAN
METHOD:PUBLISH
X-ORIGINAL-URL:https://heilig-kreuz-volksdorf.de
X-WR-CALDESC:Veranstaltungen für Heilig Kreuz Volksdorf
REFRESH-INTERVAL;VALUE=DURATION:PT1H
X-Robots-Tag:noindex
X-PUBLISHED-TTL:PT1H
BEGIN:VTIMEZONE
TZID:Europe/Helsinki
BEGIN:DAYLIGHT
TZOFFSETFROM:+0200
TZOFFSETTO:+0300
TZNAME:EEST
DTSTART:20230326T010000
END:DAYLIGHT
BEGIN:STANDARD
TZOFFSETFROM:+0300
TZOFFSETTO:+0200
TZNAME:EET
DTSTART:20231029T010000
END:STANDARD
BEGIN:DAYLIGHT
TZOFFSETFROM:+0200
TZOFFSETTO:+0300
TZNAME:EEST
DTSTART:20240331T010000
END:DAYLIGHT
BEGIN:STANDARD
TZOFFSETFROM:+0300
TZOFFSETTO:+0200
TZNAME:EET
DTSTART:20241027T010000
END:STANDARD
BEGIN:DAYLIGHT
TZOFFSETFROM:+0200
TZOFFSETTO:+0300
TZNAME:EEST
DTSTART:20250330T010000
END:DAYLIGHT
BEGIN:STANDARD
TZOFFSETFROM:+0300
TZOFFSETTO:+0200
TZNAME:EET
DTSTART:20251026T010000
END:STANDARD
END:VTIMEZONE
BEGIN:VEVENT
DTSTART;TZID=Europe/Helsinki:20241002T090000
DTEND;TZID=Europe/Helsinki:20241002T093000
DTSTAMP:20260421T170328
CREATED:20240109T144637Z
LAST-MODIFIED:20240109T144637Z
UID:18974-1727859600-1727861400@heilig-kreuz-volksdorf.de
SUMMARY:kfd-Messe
DESCRIPTION:
URL:https://heilig-kreuz-volksdorf.de/veranstaltung/kfd-messe-10/
CATEGORIES:Alle Termine,Gottesdienste
END:VEVENT
BEGIN:VEVENT
DTSTART;TZID=Europe/Helsinki:20241002T093000
DTEND;TZID=Europe/Helsinki:20241002T113000
DTSTAMP:20260421T170328
CREATED:20240109T143912Z
LAST-MODIFIED:20240109T143912Z
UID:18956-1727861400-1727868600@heilig-kreuz-volksdorf.de
SUMMARY:kfd-Treffen
DESCRIPTION:Vortrag zum Thema Prophetinnen von Marga Weiß\, Teil 1
URL:https://heilig-kreuz-volksdorf.de/veranstaltung/kfd-treffen-12/
CATEGORIES:Alle Termine,Veranstaltung
END:VEVENT
BEGIN:VEVENT
DTSTART;TZID=Europe/Helsinki:20241006T094500
DTEND;TZID=Europe/Helsinki:20241006T104500
DTSTAMP:20260421T170328
CREATED:20240922T060206Z
LAST-MODIFIED:20241006T053253Z
UID:20530-1728207900-1728211500@heilig-kreuz-volksdorf.de
SUMMARY:Wort Gottes-Feier mit Erntedank und Willkommensgruß
DESCRIPTION:mit anschl. Diskussion der neuen Gottesdienstordnung
URL:https://heilig-kreuz-volksdorf.de/veranstaltung/wort-gottes-feier-68/
CATEGORIES:Alle Termine,Gottesdienste
END:VEVENT
BEGIN:VEVENT
DTSTART;TZID=Europe/Helsinki:20241006T180000
DTEND;TZID=Europe/Helsinki:20241006T190000
DTSTAMP:20260421T170328
CREATED:20240928T061507Z
LAST-MODIFIED:20240928T061812Z
UID:20564-1728237600-1728241200@heilig-kreuz-volksdorf.de
SUMMARY:Hl. Messe
DESCRIPTION:
URL:https://heilig-kreuz-volksdorf.de/veranstaltung/hl-messe-1045/
CATEGORIES:Alle Termine,Gottesdienste
END:VEVENT
BEGIN:VEVENT
DTSTART;TZID=Europe/Helsinki:20241006T180000
DTEND;TZID=Europe/Helsinki:20241006T190000
DTSTAMP:20260421T170328
CREATED:20241006T071133Z
LAST-MODIFIED:20241006T071321Z
UID:20619-1728237600-1728241200@heilig-kreuz-volksdorf.de
SUMMARY:„Für uns Mensch geworden“ – Orgelkonzert in Mariä Himmelfahrt
DESCRIPTION:
URL:https://heilig-kreuz-volksdorf.de/veranstaltung/fuer-uns-mensch-geworden-orgelkonzert-in-mariae-himmelfahrt/
CATEGORIES:Alle Termine,Konzert
END:VEVENT
BEGIN:VEVENT
DTSTART;TZID=Europe/Helsinki:20241009T090000
DTEND;TZID=Europe/Helsinki:20241009T093000
DTSTAMP:20260421T170328
CREATED:20241006T053532Z
LAST-MODIFIED:20241006T053532Z
UID:20573-1728464400-1728466200@heilig-kreuz-volksdorf.de
SUMMARY:Hl. Messe
DESCRIPTION:
URL:https://heilig-kreuz-volksdorf.de/veranstaltung/hl-messe-1046/
CATEGORIES:Alle Termine,Gottesdienste
END:VEVENT
BEGIN:VEVENT
DTSTART;TZID=Europe/Helsinki:20241010T193000
DTEND;TZID=Europe/Helsinki:20241010T213000
DTSTAMP:20260421T170328
CREATED:20241006T055234Z
LAST-MODIFIED:20241006T055234Z
UID:20582-1728588600-1728595800@heilig-kreuz-volksdorf.de
SUMMARY:Treffen des Liturgieausschuss
DESCRIPTION:
URL:https://heilig-kreuz-volksdorf.de/veranstaltung/treffen-des-liturgieausschuss/
CATEGORIES:Alle Termine,Veranstaltung
END:VEVENT
BEGIN:VEVENT
DTSTART;TZID=Europe/Helsinki:20241010T193000
DTEND;TZID=Europe/Helsinki:20241010T220000
DTSTAMP:20260421T170328
CREATED:20241006T055401Z
LAST-MODIFIED:20241006T055401Z
UID:20584-1728588600-1728597600@heilig-kreuz-volksdorf.de
SUMMARY:Sitzung des Kirchenvorstandes in St. Wilhelm
DESCRIPTION:TO s. unter Aktuelles
URL:https://heilig-kreuz-volksdorf.de/veranstaltung/sitzung-des-kirchenvorstandes-in-st-wilhelm/
CATEGORIES:Alle Termine,Veranstaltung
END:VEVENT
BEGIN:VEVENT
DTSTART;TZID=Europe/Helsinki:20241012T100000
DTEND;TZID=Europe/Helsinki:20241012T153000
DTSTAMP:20260421T170328
CREATED:20241006T055635Z
LAST-MODIFIED:20241006T055635Z
UID:20588-1728727200-1728747000@heilig-kreuz-volksdorf.de
SUMMARY:Firmkurs
DESCRIPTION:
URL:https://heilig-kreuz-volksdorf.de/veranstaltung/firmkurs-24/
CATEGORIES:Alle Termine,Veranstaltung
END:VEVENT
BEGIN:VEVENT
DTSTART;TZID=Europe/Helsinki:20241012T103000
DTEND;TZID=Europe/Helsinki:20241012T160000
DTSTAMP:20260421T170328
CREATED:20241006T055538Z
LAST-MODIFIED:20241006T055538Z
UID:20586-1728729000-1728748800@heilig-kreuz-volksdorf.de
SUMMARY:Gartentag in Hl. Kreuz
DESCRIPTION:Helfende Hände werden gebraucht!
URL:https://heilig-kreuz-volksdorf.de/veranstaltung/gartentag-in-hl-kreuz-2/
CATEGORIES:Alle Termine,Veranstaltung
END:VEVENT
BEGIN:VEVENT
DTSTART;TZID=Europe/Helsinki:20241012T190000
DTEND;TZID=Europe/Helsinki:20241012T230000
DTSTAMP:20260421T170328
CREATED:20240922T055024Z
LAST-MODIFIED:20240922T055024Z
UID:20524-1728759600-1728774000@heilig-kreuz-volksdorf.de
SUMMARY:Oktoberfest in St. Bernard
DESCRIPTION:
URL:https://heilig-kreuz-volksdorf.de/veranstaltung/oktoberfest-in-st-bernard/
CATEGORIES:Alle Termine,Veranstaltung
END:VEVENT
BEGIN:VEVENT
DTSTART;TZID=Europe/Helsinki:20241013T090000
DTEND;TZID=Europe/Helsinki:20241013T170000
DTSTAMP:20260421T170328
CREATED:20240402T182156Z
LAST-MODIFIED:20240923T105106Z
UID:19603-1728810000-1728838800@heilig-kreuz-volksdorf.de
SUMMARY:Sonntagswandergruppe
DESCRIPTION:ins Wandse-Quellgebiet! \nNäheres s. unter Erwachsene –> Sonntagswandergruppe
URL:https://heilig-kreuz-volksdorf.de/veranstaltung/sonntagswandergruppe-35/
CATEGORIES:Alle Termine,Veranstaltung
END:VEVENT
BEGIN:VEVENT
DTSTART;TZID=Europe/Helsinki:20241013T094500
DTEND;TZID=Europe/Helsinki:20241013T104500
DTSTAMP:20260421T170328
CREATED:20241006T053640Z
LAST-MODIFIED:20241006T053640Z
UID:20575-1728812700-1728816300@heilig-kreuz-volksdorf.de
SUMMARY:Hl. Messe mit Kinderkirche
DESCRIPTION:
URL:https://heilig-kreuz-volksdorf.de/veranstaltung/hl-messe-mit-kinderkirche-12/
CATEGORIES:Alle Termine,Gottesdienste
END:VEVENT
BEGIN:VEVENT
DTSTART;TZID=Europe/Helsinki:20241013T170000
DTEND;TZID=Europe/Helsinki:20241013T180000
DTSTAMP:20260421T170328
CREATED:20241006T071230Z
LAST-MODIFIED:20241006T071230Z
UID:20621-1728838800-1728842400@heilig-kreuz-volksdorf.de
SUMMARY:„Für uns Mensch geworden“ – Orgelkonzert in Hl. Geist
DESCRIPTION:
URL:https://heilig-kreuz-volksdorf.de/veranstaltung/fuer-uns-mensch-geworden-orgelkonzert-in-hl-geist/
CATEGORIES:Alle Termine,Konzert
END:VEVENT
BEGIN:VEVENT
DTSTART;TZID=Europe/Helsinki:20241013T180000
DTEND;TZID=Europe/Helsinki:20241013T190000
DTSTAMP:20260421T170328
CREATED:20241006T053728Z
LAST-MODIFIED:20241006T053728Z
UID:20577-1728842400-1728846000@heilig-kreuz-volksdorf.de
SUMMARY:Wort Gottes-Feier
DESCRIPTION:
URL:https://heilig-kreuz-volksdorf.de/veranstaltung/wort-gottes-feier-69/
CATEGORIES:Alle Termine,Gottesdienste
END:VEVENT
BEGIN:VEVENT
DTSTART;TZID=Europe/Helsinki:20241015T150000
DTEND;TZID=Europe/Helsinki:20241015T153000
DTSTAMP:20260421T170328
CREATED:20241013T093202Z
LAST-MODIFIED:20241013T093202Z
UID:20647-1729004400-1729006200@heilig-kreuz-volksdorf.de
SUMMARY:Rosenkranzandacht der Senioren
DESCRIPTION:anschl. Treffen im Saal
URL:https://heilig-kreuz-volksdorf.de/veranstaltung/rosenkranzandacht-der-senioren-2/
CATEGORIES:Alle Termine,Gottesdienste
END:VEVENT
BEGIN:VEVENT
DTSTART;TZID=Europe/Helsinki:20241016T090000
DTEND;TZID=Europe/Helsinki:20241016T093000
DTSTAMP:20260421T170328
CREATED:20241013T093323Z
LAST-MODIFIED:20241013T093323Z
UID:20649-1729069200-1729071000@heilig-kreuz-volksdorf.de
SUMMARY:Hl. Messe
DESCRIPTION:
URL:https://heilig-kreuz-volksdorf.de/veranstaltung/hl-messe-1047/
CATEGORIES:Alle Termine,Gottesdienste
END:VEVENT
BEGIN:VEVENT
DTSTART;TZID=Europe/Helsinki:20241016T100000
DTEND;TZID=Europe/Helsinki:20241016T130000
DTSTAMP:20260421T170328
CREATED:20241016T050756Z
LAST-MODIFIED:20241016T050756Z
UID:20695-1729072800-1729083600@heilig-kreuz-volksdorf.de
SUMMARY:Kinderbibeltag
DESCRIPTION:zum blinden Bartimäus. Näheres unter Aktuelles oder Kinderbibeltagen!
URL:https://heilig-kreuz-volksdorf.de/veranstaltung/kinderbibeltag-6/
CATEGORIES:Alle Termine,Veranstaltung
END:VEVENT
BEGIN:VEVENT
DTSTART;TZID=Europe/Helsinki:20241016T190000
DTEND;TZID=Europe/Helsinki:20241016T223000
DTSTAMP:20260421T170328
CREATED:20240225T070617Z
LAST-MODIFIED:20240225T070617Z
UID:19421-1729105200-1729117800@heilig-kreuz-volksdorf.de
SUMMARY:Frauen unterwegs
DESCRIPTION:Besuch des Ohnsorg Theaters
URL:https://heilig-kreuz-volksdorf.de/veranstaltung/frauen-unterwegs-30/
CATEGORIES:Alle Termine,Veranstaltung
END:VEVENT
BEGIN:VEVENT
DTSTART;TZID=Europe/Helsinki:20241019T160000
DTEND;TZID=Europe/Helsinki:20241019T170000
DTSTAMP:20260421T170328
CREATED:20241013T093424Z
LAST-MODIFIED:20241013T093424Z
UID:20651-1729353600-1729357200@heilig-kreuz-volksdorf.de
SUMMARY:Goldene Hochzeit Ehepaar Weiß  mit Domprobst em. Nestor Kuckhoff
DESCRIPTION:
URL:https://heilig-kreuz-volksdorf.de/veranstaltung/goldene-hochzeit-ehepaar-weiss-mit-domprobst-em-nestor-kuckhoff/
CATEGORIES:Alle Termine,Gottesdienste
END:VEVENT
BEGIN:VEVENT
DTSTART;TZID=Europe/Helsinki:20241020T094500
DTEND;TZID=Europe/Helsinki:20241020T104500
DTSTAMP:20260421T170328
CREATED:20241013T093544Z
LAST-MODIFIED:20241013T093544Z
UID:20653-1729417500-1729421100@heilig-kreuz-volksdorf.de
SUMMARY:Wort Gottes-Feier
DESCRIPTION:
URL:https://heilig-kreuz-volksdorf.de/veranstaltung/wort-gottes-feier-70/
CATEGORIES:Alle Termine,Gottesdienste
END:VEVENT
BEGIN:VEVENT
DTSTART;TZID=Europe/Helsinki:20241020T180000
DTEND;TZID=Europe/Helsinki:20241020T190000
DTSTAMP:20260421T170328
CREATED:20241013T093630Z
LAST-MODIFIED:20241013T093630Z
UID:20655-1729447200-1729450800@heilig-kreuz-volksdorf.de
SUMMARY:Hl. Messe
DESCRIPTION:
URL:https://heilig-kreuz-volksdorf.de/veranstaltung/hl-messe-1048/
CATEGORIES:Alle Termine,Gottesdienste
END:VEVENT
BEGIN:VEVENT
DTSTART;TZID=Europe/Helsinki:20241023T090000
DTEND;TZID=Europe/Helsinki:20241023T093000
DTSTAMP:20260421T170328
CREATED:20241021T094623Z
LAST-MODIFIED:20241021T094623Z
UID:20701-1729674000-1729675800@heilig-kreuz-volksdorf.de
SUMMARY:Hl. Messe entfällt!
DESCRIPTION:
URL:https://heilig-kreuz-volksdorf.de/veranstaltung/hl-messe-entfaellt-22/
CATEGORIES:Alle Termine
END:VEVENT
BEGIN:VEVENT
DTSTART;TZID=Europe/Helsinki:20241027T094500
DTEND;TZID=Europe/Helsinki:20241027T104500
DTSTAMP:20260421T170328
CREATED:20241021T094709Z
LAST-MODIFIED:20241021T094709Z
UID:20703-1730022300-1730025900@heilig-kreuz-volksdorf.de
SUMMARY:Hl. Messe
DESCRIPTION:
URL:https://heilig-kreuz-volksdorf.de/veranstaltung/hl-messe-1049/
CATEGORIES:Alle Termine,Gottesdienste
END:VEVENT
BEGIN:VEVENT
DTSTART;TZID=Europe/Helsinki:20241027T180000
DTEND;TZID=Europe/Helsinki:20241027T190000
DTSTAMP:20260421T170328
CREATED:20241021T094759Z
LAST-MODIFIED:20241021T094759Z
UID:20705-1730052000-1730055600@heilig-kreuz-volksdorf.de
SUMMARY:Hl. Messe
DESCRIPTION:
URL:https://heilig-kreuz-volksdorf.de/veranstaltung/hl-messe-1050/
CATEGORIES:Alle Termine,Gottesdienste
END:VEVENT
BEGIN:VEVENT
DTSTART;TZID=Europe/Helsinki:20241029T190000
DTEND;TZID=Europe/Helsinki:20241029T210000
DTSTAMP:20260421T170328
CREATED:20241027T184327Z
LAST-MODIFIED:20241027T184327Z
UID:20743-1730228400-1730235600@heilig-kreuz-volksdorf.de
SUMMARY:Ökumenischer Gesprächskreis
DESCRIPTION:
URL:https://heilig-kreuz-volksdorf.de/veranstaltung/oekumenischer-gespraechskreis-7/
CATEGORIES:Alle Termine,Veranstaltung
END:VEVENT
BEGIN:VEVENT
DTSTART;TZID=Europe/Helsinki:20241029T193000
DTEND;TZID=Europe/Helsinki:20241029T210000
DTSTAMP:20260421T170328
CREATED:20241013T091944Z
LAST-MODIFIED:20241013T092103Z
UID:20641-1730230200-1730235600@heilig-kreuz-volksdorf.de
SUMMARY:7. Abendgespräch mit Königin und Bibel in Hl. Kreuz
DESCRIPTION:s. unter Aktuelles!
URL:https://heilig-kreuz-volksdorf.de/veranstaltung/7-abendgespraech-mit-koenigin-bibel/
CATEGORIES:Alle Termine,Veranstaltung
END:VEVENT
BEGIN:VEVENT
DTSTART;TZID=Europe/Helsinki:20241030T090000
DTEND;TZID=Europe/Helsinki:20241030T093000
DTSTAMP:20260421T170328
CREATED:20241027T183249Z
LAST-MODIFIED:20241027T183249Z
UID:20731-1730278800-1730280600@heilig-kreuz-volksdorf.de
SUMMARY:Hl. Messe
DESCRIPTION:
URL:https://heilig-kreuz-volksdorf.de/veranstaltung/hl-messe-1051/
CATEGORIES:Alle Termine,Gottesdienste
END:VEVENT
BEGIN:VEVENT
DTSTART;TZID=Europe/Helsinki:20241031T180000
DTEND;TZID=Europe/Helsinki:20241031T190000
DTSTAMP:20260421T170328
CREATED:20241021T100711Z
LAST-MODIFIED:20241021T100711Z
UID:20711-1730397600-1730401200@heilig-kreuz-volksdorf.de
SUMMARY:„Szenen aus dem Leben des Dr. Martin Luther“ in St. Wilhelm
DESCRIPTION:Orgelspiel mit Texten von Klaus Lutterbüse zum Reformationstag
URL:https://heilig-kreuz-volksdorf.de/veranstaltung/szenen-aus-dem-leben-des-dr-martin-luther-in-st-wilhelm/
CATEGORIES:Alle Termine,Veranstaltung
END:VEVENT
END:VCALENDAR