BEGIN:VCALENDAR
VERSION:2.0
PRODID:-//Heilig Kreuz Volksdorf - ECPv6.15.17.1//NONSGML v1.0//EN
CALSCALE:GREGORIAN
METHOD:PUBLISH
X-WR-CALNAME:Heilig Kreuz Volksdorf
X-ORIGINAL-URL:https://heilig-kreuz-volksdorf.de
X-WR-CALDESC:Veranstaltungen für Heilig Kreuz Volksdorf
REFRESH-INTERVAL;VALUE=DURATION:PT1H
X-Robots-Tag:noindex
X-PUBLISHED-TTL:PT1H
BEGIN:VTIMEZONE
TZID:Europe/Helsinki
BEGIN:DAYLIGHT
TZOFFSETFROM:+0200
TZOFFSETTO:+0300
TZNAME:EEST
DTSTART:20240331T010000
END:DAYLIGHT
BEGIN:STANDARD
TZOFFSETFROM:+0300
TZOFFSETTO:+0200
TZNAME:EET
DTSTART:20241027T010000
END:STANDARD
BEGIN:DAYLIGHT
TZOFFSETFROM:+0200
TZOFFSETTO:+0300
TZNAME:EEST
DTSTART:20250330T010000
END:DAYLIGHT
BEGIN:STANDARD
TZOFFSETFROM:+0300
TZOFFSETTO:+0200
TZNAME:EET
DTSTART:20251026T010000
END:STANDARD
BEGIN:DAYLIGHT
TZOFFSETFROM:+0200
TZOFFSETTO:+0300
TZNAME:EEST
DTSTART:20260329T010000
END:DAYLIGHT
BEGIN:STANDARD
TZOFFSETFROM:+0300
TZOFFSETTO:+0200
TZNAME:EET
DTSTART:20261025T010000
END:STANDARD
END:VTIMEZONE
BEGIN:VEVENT
DTSTART;TZID=Europe/Helsinki:20250101T180000
DTEND;TZID=Europe/Helsinki:20250101T190000
DTSTAMP:20260421T112401
CREATED:20241214T183917Z
LAST-MODIFIED:20241214T183917Z
UID:21128-1735754400-1735758000@heilig-kreuz-volksdorf.de
SUMMARY:Hl. Messe zu Neujahr
DESCRIPTION:
URL:https://heilig-kreuz-volksdorf.de/veranstaltung/hl-messe-zu-neujahr-3/
CATEGORIES:Alle Termine,Gottesdienste
END:VEVENT
BEGIN:VEVENT
DTSTART;TZID=Europe/Helsinki:20250104T090000
DTEND;TZID=Europe/Helsinki:20250104T160000
DTSTAMP:20260421T112401
CREATED:20241214T184012Z
LAST-MODIFIED:20241214T184012Z
UID:21130-1735981200-1736006400@heilig-kreuz-volksdorf.de
SUMMARY:Aussendung der Sternsinger
DESCRIPTION:
URL:https://heilig-kreuz-volksdorf.de/veranstaltung/aussendung-der-sternsinger-4/
CATEGORIES:Alle Termine,Veranstaltung
END:VEVENT
BEGIN:VEVENT
DTSTART;TZID=Europe/Helsinki:20250105T103000
DTEND;TZID=Europe/Helsinki:20250105T113000
DTSTAMP:20260421T112401
CREATED:20241214T184243Z
LAST-MODIFIED:20241214T184243Z
UID:21132-1736073000-1736076600@heilig-kreuz-volksdorf.de
SUMMARY:Wort Gottes-Feier mit Abschluss der Sternsingeraktion
DESCRIPTION:
URL:https://heilig-kreuz-volksdorf.de/veranstaltung/wort-gottes-feier-mit-abschluss-der-sternsingeraktion/
CATEGORIES:Alle Termine,Gottesdienste
END:VEVENT
BEGIN:VEVENT
DTSTART;TZID=Europe/Helsinki:20250105T180000
DTEND;TZID=Europe/Helsinki:20250105T190000
DTSTAMP:20260421T112401
CREATED:20241214T184320Z
LAST-MODIFIED:20241214T184320Z
UID:21134-1736100000-1736103600@heilig-kreuz-volksdorf.de
SUMMARY:Wort Gottes-Feier
DESCRIPTION:
URL:https://heilig-kreuz-volksdorf.de/veranstaltung/wort-gottes-feier-76/
CATEGORIES:Alle Termine,Gottesdienste
END:VEVENT
BEGIN:VEVENT
DTSTART;TZID=Europe/Helsinki:20250108T090000
DTEND;TZID=Europe/Helsinki:20250108T093000
DTSTAMP:20260421T112401
CREATED:20250103T165611Z
LAST-MODIFIED:20250103T165626Z
UID:21173-1736326800-1736328600@heilig-kreuz-volksdorf.de
SUMMARY:kfd-Messe
DESCRIPTION:
URL:https://heilig-kreuz-volksdorf.de/veranstaltung/kfd-messe-12/
CATEGORIES:Alle Termine,Gottesdienste
END:VEVENT
BEGIN:VEVENT
DTSTART;TZID=Europe/Helsinki:20250110T100000
DTEND;TZID=Europe/Helsinki:20250110T130000
DTSTAMP:20260421T112401
CREATED:20250103T170419Z
LAST-MODIFIED:20250103T170419Z
UID:21181-1736503200-1736514000@heilig-kreuz-volksdorf.de
SUMMARY:Treffen der Stadt-Kfd
DESCRIPTION:
URL:https://heilig-kreuz-volksdorf.de/veranstaltung/treffen-der-stadt-kfd/
CATEGORIES:Alle Termine,Veranstaltung
END:VEVENT
BEGIN:VEVENT
DTSTART;TZID=Europe/Helsinki:20250112T103000
DTEND;TZID=Europe/Helsinki:20250112T113000
DTSTAMP:20260421T112401
CREATED:20250103T165722Z
LAST-MODIFIED:20250103T165722Z
UID:21175-1736677800-1736681400@heilig-kreuz-volksdorf.de
SUMMARY:Gottesdienst
DESCRIPTION:
URL:https://heilig-kreuz-volksdorf.de/veranstaltung/gottesdienst-26/
CATEGORIES:Alle Termine,Gottesdienste
END:VEVENT
BEGIN:VEVENT
DTSTART;TZID=Europe/Helsinki:20250112T180000
DTEND;TZID=Europe/Helsinki:20250112T190000
DTSTAMP:20260421T112401
CREATED:20250103T165756Z
LAST-MODIFIED:20250103T165756Z
UID:21177-1736704800-1736708400@heilig-kreuz-volksdorf.de
SUMMARY:Hl. Messe
DESCRIPTION:
URL:https://heilig-kreuz-volksdorf.de/veranstaltung/hl-messe-1063/
CATEGORIES:Alle Termine,Gottesdienste
END:VEVENT
BEGIN:VEVENT
DTSTART;TZID=Europe/Helsinki:20250115T090000
DTEND;TZID=Europe/Helsinki:20250115T093000
DTSTAMP:20260421T112401
CREATED:20250110T200922Z
LAST-MODIFIED:20250110T200922Z
UID:21194-1736931600-1736933400@heilig-kreuz-volksdorf.de
SUMMARY:Hl. Messe
DESCRIPTION:
URL:https://heilig-kreuz-volksdorf.de/veranstaltung/hl-messe-1064/
CATEGORIES:Alle Termine,Gottesdienste
END:VEVENT
BEGIN:VEVENT
DTSTART;TZID=Europe/Helsinki:20250115T190000
DTEND;TZID=Europe/Helsinki:20250115T220000
DTSTAMP:20260421T112401
CREATED:20240225T070929Z
LAST-MODIFIED:20240225T070929Z
UID:19427-1736967600-1736978400@heilig-kreuz-volksdorf.de
SUMMARY:Frauen unterwegs
DESCRIPTION:Planung Programm 2025
URL:https://heilig-kreuz-volksdorf.de/veranstaltung/frauen-unterwegs-33/
CATEGORIES:Alle Termine,Veranstaltung
END:VEVENT
BEGIN:VEVENT
DTSTART;TZID=Europe/Helsinki:20250119T103000
DTEND;TZID=Europe/Helsinki:20250119T113000
DTSTAMP:20260421T112401
CREATED:20250110T201025Z
LAST-MODIFIED:20250110T201025Z
UID:21196-1737282600-1737286200@heilig-kreuz-volksdorf.de
SUMMARY:Gottesdienst
DESCRIPTION:
URL:https://heilig-kreuz-volksdorf.de/veranstaltung/gottesdienst-27/
CATEGORIES:Alle Termine,Gottesdienste
END:VEVENT
BEGIN:VEVENT
DTSTART;TZID=Europe/Helsinki:20250119T180000
DTEND;TZID=Europe/Helsinki:20250119T190000
DTSTAMP:20260421T112401
CREATED:20250110T201102Z
LAST-MODIFIED:20250110T201102Z
UID:21198-1737309600-1737313200@heilig-kreuz-volksdorf.de
SUMMARY:Hl. Messe
DESCRIPTION:
URL:https://heilig-kreuz-volksdorf.de/veranstaltung/hl-messe-1065/
CATEGORIES:Alle Termine,Gottesdienste
END:VEVENT
BEGIN:VEVENT
DTSTART;TZID=Europe/Helsinki:20250122T090000
DTEND;TZID=Europe/Helsinki:20250122T093000
DTSTAMP:20260421T112401
CREATED:20250118T213754Z
LAST-MODIFIED:20250118T213754Z
UID:21245-1737536400-1737538200@heilig-kreuz-volksdorf.de
SUMMARY:Hl. Messe
DESCRIPTION:
URL:https://heilig-kreuz-volksdorf.de/veranstaltung/hl-messe-1066/
CATEGORIES:Alle Termine,Gottesdienste
END:VEVENT
BEGIN:VEVENT
DTSTART;TZID=Europe/Helsinki:20250124T193000
DTEND;TZID=Europe/Helsinki:20250124T220000
DTSTAMP:20260421T112401
CREATED:20250118T215224Z
LAST-MODIFIED:20250118T215224Z
UID:21261-1737747000-1737756000@heilig-kreuz-volksdorf.de
SUMMARY:KV-Sitzung in Hl. Geist (Farmsen)
DESCRIPTION:
URL:https://heilig-kreuz-volksdorf.de/veranstaltung/kv-sitzung-in-hl-geist-farmsen/
CATEGORIES:Alle Termine,Veranstaltung
END:VEVENT
BEGIN:VEVENT
DTSTART;TZID=Europe/Helsinki:20250125T100000
DTEND;TZID=Europe/Helsinki:20250125T130000
DTSTAMP:20260421T112401
CREATED:20250118T214924Z
LAST-MODIFIED:20250118T215028Z
UID:21259-1737799200-1737810000@heilig-kreuz-volksdorf.de
SUMMARY:Treffen Firmkurs
DESCRIPTION:
URL:https://heilig-kreuz-volksdorf.de/veranstaltung/treffen-firmkurs-3/
CATEGORIES:Alle Termine,Veranstaltung
END:VEVENT
BEGIN:VEVENT
DTSTART;TZID=Europe/Helsinki:20250126T090000
DTEND;TZID=Europe/Helsinki:20250126T170000
DTSTAMP:20260421T112401
CREATED:20250116T105159Z
LAST-MODIFIED:20250116T105746Z
UID:21228-1737882000-1737910800@heilig-kreuz-volksdorf.de
SUMMARY:Wanderung der Sonntagswandergruppe
DESCRIPTION:vom Entenwerder Elbpark in die Speicherstadt. Genaueres unter „Erwachsene“ –> „Sonntagswandergruppe“
URL:https://heilig-kreuz-volksdorf.de/veranstaltung/wnderung-der-sonntagswandergruppe/
CATEGORIES:Alle Termine,Veranstaltung
END:VEVENT
BEGIN:VEVENT
DTSTART;TZID=Europe/Helsinki:20250126T103000
DTEND;TZID=Europe/Helsinki:20250126T113000
DTSTAMP:20260421T112401
CREATED:20250118T213849Z
LAST-MODIFIED:20250125T173840Z
UID:21247-1737887400-1737891000@heilig-kreuz-volksdorf.de
SUMMARY:Gottesdienst mit Vorstellung der Firmanden
DESCRIPTION:
URL:https://heilig-kreuz-volksdorf.de/veranstaltung/gottesdienst-28/
CATEGORIES:Alle Termine,Gottesdienste
END:VEVENT
BEGIN:VEVENT
DTSTART;TZID=Europe/Helsinki:20250126T180000
DTEND;TZID=Europe/Helsinki:20250126T190000
DTSTAMP:20260421T112401
CREATED:20250118T213949Z
LAST-MODIFIED:20250118T213949Z
UID:21249-1737914400-1737918000@heilig-kreuz-volksdorf.de
SUMMARY:Hl. Messe
DESCRIPTION:
URL:https://heilig-kreuz-volksdorf.de/veranstaltung/hl-messe-1067/
CATEGORIES:Alle Termine,Gottesdienste
END:VEVENT
BEGIN:VEVENT
DTSTART;TZID=Europe/Helsinki:20250127T193000
DTEND;TZID=Europe/Helsinki:20250127T220000
DTSTAMP:20260421T112401
CREATED:20241118T075347Z
LAST-MODIFIED:20241118T075347Z
UID:20872-1738006200-1738015200@heilig-kreuz-volksdorf.de
SUMMARY:Gemeindetreff
DESCRIPTION:
URL:https://heilig-kreuz-volksdorf.de/veranstaltung/gemeindetreff-5/
CATEGORIES:Alle Termine,Veranstaltung
END:VEVENT
BEGIN:VEVENT
DTSTART;TZID=Europe/Helsinki:20250127T193000
DTEND;TZID=Europe/Helsinki:20250127T220000
DTSTAMP:20260421T112401
CREATED:20250125T175219Z
LAST-MODIFIED:20250125T175219Z
UID:21309-1738006200-1738015200@heilig-kreuz-volksdorf.de
SUMMARY:Sitzung Finanzausschuss in St. Bernard
DESCRIPTION:TO hängt aus!
URL:https://heilig-kreuz-volksdorf.de/veranstaltung/sitzung-finanzausschuss-in-st-bernard/
CATEGORIES:Alle Termine,Veranstaltung
END:VEVENT
BEGIN:VEVENT
DTSTART;TZID=Europe/Helsinki:20250128T193000
DTEND;TZID=Europe/Helsinki:20250128T210000
DTSTAMP:20260421T112401
CREATED:20250125T181628Z
LAST-MODIFIED:20250125T181652Z
UID:21319-1738092600-1738098000@heilig-kreuz-volksdorf.de
SUMMARY:Mit der Königin auf Spurensuche durch die Bibel in St. Bernard
DESCRIPTION:Näheres unter Aktuelles!
URL:https://heilig-kreuz-volksdorf.de/veranstaltung/mit-der-koenigin-auf-spurensuche-durch-die-bibel-in-st-bernard/
CATEGORIES:Alle Termine,Veranstaltung
END:VEVENT
BEGIN:VEVENT
DTSTART;TZID=Europe/Helsinki:20250129T090000
DTEND;TZID=Europe/Helsinki:20250129T093000
DTSTAMP:20260421T112401
CREATED:20250125T174112Z
LAST-MODIFIED:20250125T174112Z
UID:21295-1738141200-1738143000@heilig-kreuz-volksdorf.de
SUMMARY:Hl. Messe
DESCRIPTION:
URL:https://heilig-kreuz-volksdorf.de/veranstaltung/hl-messe-1068/
CATEGORIES:Alle Termine,Gottesdienste
END:VEVENT
BEGIN:VEVENT
DTSTART;TZID=Europe/Helsinki:20250131T110000
DTEND;TZID=Europe/Helsinki:20250131T120000
DTSTAMP:20260421T112401
CREATED:20250125T174857Z
LAST-MODIFIED:20250125T174921Z
UID:21305-1738321200-1738324800@heilig-kreuz-volksdorf.de
SUMMARY:Requiem
DESCRIPTION:für Rolf Lange
URL:https://heilig-kreuz-volksdorf.de/veranstaltung/requiem-11/
CATEGORIES:Alle Termine,Gottesdienste
END:VEVENT
END:VCALENDAR